BEGIN:VCALENDAR
VERSION:2.0
PRODID:-//wp-events-plugin.com//7.2.3.1//EN
TZID:Europe/London
X-WR-TIMEZONE:Europe/London
BEGIN:VEVENT
UID:244@shearwatersailingclub.co.uk
DTSTART;TZID=Europe/London:20230718T170000
DTEND;TZID=Europe/London:20230718T190000
DTSTAMP:20230303T052749Z
URL:https://shearwatersailingclub.co.uk/events/tuesday-sailing-session-202
 3-2023-07-18/
SUMMARY:Tuesday Sailing Session 2023
DESCRIPTION:All sailing should be pre-booked to ensure we have covid compli
 ant contact logging.&nbsp\;\n\nThis session is 17:00 to 19:30 (5:00 p.m. t
 o 7:30 p.m.)\n\nDoublehanders must book 2 tickets.\n\nThere are no limits 
 on tickets but someone needs to book an OOD duty ticket to enable sailing 
 to take place.\n\nTickets only become available 14 days before the session
 .\n\nPlease add any further information in the comment box\, remembering t
 his can be seen by everyone.
CATEGORIES:Restricted Sailing
LOCATION:Shearwater Sailing Club\, Clay Street\, Crockerton\, Warminster\, 
 Wiltshire\, England\, BA12 8AE\, United Kingdom
X-APPLE-STRUCTURED-LOCATION;VALUE=URI;X-ADDRESS=Clay Street\, Crockerton\, 
 Warminster\, Wiltshire\, England\, BA12 8AE\, United Kingdom;X-APPLE-RADIU
 S=100;X-TITLE=Shearwater Sailing Club:geo:0,0
END:VEVENT
BEGIN:VTIMEZONE
TZID:Europe/London
X-LIC-LOCATION:Europe/London
BEGIN:DAYLIGHT
DTSTART:20230326T020000
TZOFFSETFROM:+0000
TZOFFSETTO:+0100
TZNAME:BST
END:DAYLIGHT
END:VTIMEZONE
END:VCALENDAR